BEGIN:VCALENDAR
VERSION:2.0
PRODID:-//NC Maritime Museum : BEAUFORT - ECPv6.8.3//NONSGML v1.0//EN
CALSCALE:GREGORIAN
METHOD:PUBLISH
X-WR-CALNAME:NC Maritime Museum : BEAUFORT
X-ORIGINAL-URL:https://ncmaritimemuseumbeaufort.com
X-WR-CALDESC:Events for NC Maritime Museum : BEAUFORT
REFRESH-INTERVAL;VALUE=DURATION:PT1H
X-Robots-Tag:noindex
X-PUBLISHED-TTL:PT1H
BEGIN:VTIMEZONE
TZID:America/New_York
BEGIN:DAYLIGHT
TZOFFSETFROM:-0500
TZOFFSETTO:-0400
TZNAME:EDT
DTSTART:20250309T070000
END:DAYLIGHT
BEGIN:STANDARD
TZOFFSETFROM:-0400
TZOFFSETTO:-0500
TZNAME:EST
DTSTART:20251102T060000
END:STANDARD
END:VTIMEZONE
BEGIN:VEVENT
DTSTART;TZID=America/New_York:20250403T110000
DTEND;TZID=America/New_York:20250403T120000
DTSTAMP:20260419T204706
CREATED:20220106T145205Z
LAST-MODIFIED:20241219T165852Z
UID:11368-1743678000-1743681600@ncmaritimemuseumbeaufort.com
SUMMARY:Beaufort's Dolphins: Getting to Know Them
DESCRIPTION:Bottlenose dolphins occur in Beaufort year-round but they’re not the same individuals and we’re learning a lot from photo-ID and stranding response. Join Museum Natural Science Curator Keith Rittmaster for an informal discussion about the biology\, behavior\, and conservation issues affecting “Beaufort’s Dolphins.”   \nThis program is part of the museum’s Maritime Heritage Lecture Series\, informal lectures focused on North Carolina’s rich maritime history\, coastal environment\, and culture. Programs are offered most Thursdays at 11 a.m. The lectures are currently held in the Fort Macon Coastal Education Center and streamed via Zoom. Admission is free\, and registration is not required for the in-person program. Visit ncmaritimemuseumbeaufort.com/virtual to sign up to receive the Zoom links. Programs are also posted to the museum’s YouTube channel. 
URL:https://ncmaritimemuseumbeaufort.com/event/dolphins/
LOCATION:Fort Macon State Park\, 2303 E. Fort Macon Road\, Atlantic Beach\, 28512\, United States
CATEGORIES:maritime heritage series
ATTACH;FMTTYPE=image/jpeg:https://ncmaritimemuseumbeaufort.com/wp-content/uploads/2020/06/Bottlenose-Dolphin-ID-project-K-Rittmaster.jpg
ORGANIZER;CN="North Carolina Maritime Museum in Beaufort":MAILTO:cyndi.brown@dncr.nc.gov
END:VEVENT
END:VCALENDAR