BEGIN:VCALENDAR
VERSION:2.0
PRODID:-//NC Maritime Museum : BEAUFORT - ECPv6.8.3//NONSGML v1.0//EN
CALSCALE:GREGORIAN
METHOD:PUBLISH
X-WR-CALNAME:NC Maritime Museum : BEAUFORT
X-ORIGINAL-URL:https://ncmaritimemuseumbeaufort.com
X-WR-CALDESC:Events for NC Maritime Museum : BEAUFORT
REFRESH-INTERVAL;VALUE=DURATION:PT1H
X-Robots-Tag:noindex
X-PUBLISHED-TTL:PT1H
BEGIN:VTIMEZONE
TZID:America/New_York
BEGIN:DAYLIGHT
TZOFFSETFROM:-0500
TZOFFSETTO:-0400
TZNAME:EDT
DTSTART:20250309T070000
END:DAYLIGHT
BEGIN:STANDARD
TZOFFSETFROM:-0400
TZOFFSETTO:-0500
TZNAME:EST
DTSTART:20251102T060000
END:STANDARD
END:VTIMEZONE
BEGIN:VEVENT
DTSTART;TZID=America/New_York:20250717T110000
DTEND;TZID=America/New_York:20250717T110000
DTSTAMP:20260420T003123
CREATED:20241216T172205Z
LAST-MODIFIED:20241219T205802Z
UID:11432-1752750000-1752750000@ncmaritimemuseumbeaufort.com
SUMMARY:Battle of Beaufort: American Revolution
DESCRIPTION:Some historians argue that the final battle of the American Revolutionary War occurred in Beaufort\, North Carolina\, in April of 1782. Join Associate Curator Christine Brin for a discussion of this dramatic event.  With daring raids\, burning ships\, shoot outs\, and kidnapping\, this battle has the makings of a blockbuster movie\, without the need for fictional enhancements.   \nThis program is part of the museum’s Maritime Heritage Lecture Series\, informal lectures focused on North Carolina’s rich maritime history\, coastal environment\, and culture. The lectures are currently held in the Fort Macon Coastal Education Center and streamed via Zoom. is free\, and registration is not required for the in-person program. Visit ncmaritimemuseumbeaufort.com/virtual to sign up to receive the Zoom links. Programs are also posted to the museum’s YouTube channel. 
URL:https://ncmaritimemuseumbeaufort.com/event/mhs-2-2025-07-17/
LOCATION:Fort Macon State Park\, 2303 E. Fort Macon Road\, Atlantic Beach\, 28512\, United States
CATEGORIES:maritime heritage series
ORGANIZER;CN="North Carolina Maritime Museum in Beaufort":MAILTO:cyndi.brown@dncr.nc.gov
END:VEVENT
END:VCALENDAR