BEGIN:VCALENDAR
VERSION:2.0
PRODID:-//NC Maritime Museum : BEAUFORT - ECPv6.8.3//NONSGML v1.0//EN
CALSCALE:GREGORIAN
METHOD:PUBLISH
X-ORIGINAL-URL:https://ncmaritimemuseumbeaufort.com
X-WR-CALDESC:Events for NC Maritime Museum : BEAUFORT
REFRESH-INTERVAL;VALUE=DURATION:PT1H
X-Robots-Tag:noindex
X-PUBLISHED-TTL:PT1H
BEGIN:VTIMEZONE
TZID:America/New_York
BEGIN:DAYLIGHT
TZOFFSETFROM:-0500
TZOFFSETTO:-0400
TZNAME:EDT
DTSTART:20250309T070000
END:DAYLIGHT
BEGIN:STANDARD
TZOFFSETFROM:-0400
TZOFFSETTO:-0500
TZNAME:EST
DTSTART:20251102T060000
END:STANDARD
END:VTIMEZONE
BEGIN:VEVENT
DTSTART;TZID=America/New_York:20250903T090000
DTEND;TZID=America/New_York:20250903T120000
DTSTAMP:20260421T185641
CREATED:20210512T165555Z
LAST-MODIFIED:20250825T141404Z
UID:11308-1756890000-1756900800@ncmaritimemuseumbeaufort.com
SUMMARY:Exploring Coastal Habitats on the Rachel Carson Reserve
DESCRIPTION:Join a member of our education team to discover the various plants and animals of the salt marsh and tidal flats at the Rachel Carson Reserve. The guided hike will take you through the different habitats and the sandy\, muddy\, and wet terrain found on Town Marsh and Bird Shoal. The program is recommended for ages 12 and up. All participants under 18 must be accompanied by an adult. \nField programs are designed to give participants a hands-on experience with North Carolina’s environment\, history\, and culture. Please note that these programs take place primarily outside. Please review the age and experience requirements before registering. Pre-registration is required by noon the day prior to the program. Register below. For more information\, call 252-504-7758. 
URL:https://ncmaritimemuseumbeaufort.com/event/exploring-coastal-habitats-2-2025-09-03/
LOCATION:NC
CATEGORIES:field programs
ATTACH;FMTTYPE=image/jpeg:https://ncmaritimemuseumbeaufort.com/wp-content/uploads/2020/06/7-9-10-horses-watching.jpg
ORGANIZER;CN="North Carolina Maritime Museum in Beaufort":MAILTO:cyndi.brown@dncr.nc.gov
END:VEVENT
BEGIN:VEVENT
DTSTART;TZID=America/New_York:20250904T110000
DTEND;TZID=America/New_York:20250904T120000
DTSTAMP:20260421T185641
CREATED:20221221T182721Z
LAST-MODIFIED:20250903T151803Z
UID:9620-1756983600-1756987200@ncmaritimemuseumbeaufort.com
SUMMARY:Diamondback Terrapins: Uncovering Their History and Shell-ebrating Their Future
DESCRIPTION:Diamondback terrapins\, a unique and striking marsh turtle\, have a long history in Beaufort\, from collection and farming in the 1900s to present-day conservation efforts. Join Curator of Education Courtney Felton to discover how terrapins went from being considered a delicacy to being protected. \nThis program is part of the museum’s Maritime Heritage Lecture Series\, informal lectures focused on North Carolina’s rich maritime history\, coastal environment\, and culture. The lectures are currently held in the Fort Macon Coastal Education Center and streamed via Zoom. is free\, and registration is not required for the in-person program. Visit ncmaritimemuseumbeaufort.com/virtual to sign up to receive the Zoom links. Programs are also posted to the museum’s YouTube channel. 
URL:https://ncmaritimemuseumbeaufort.com/event/terrapins/
LOCATION:Fort Macon State Park\, 2303 E. Fort Macon Road\, Atlantic Beach\, 28512\, United States
CATEGORIES:maritime heritage series
ATTACH;FMTTYPE=image/jpeg:https://ncmaritimemuseumbeaufort.com/wp-content/uploads/2022/12/terrapin.jpg
ORGANIZER;CN="North Carolina Maritime Museum in Beaufort":MAILTO:cyndi.brown@dncr.nc.gov
END:VEVENT
BEGIN:VEVENT
DTSTART;VALUE=DATE:20250906
DTEND;VALUE=DATE:20250908
DTSTAMP:20260421T185641
CREATED:20210609T155800Z
LAST-MODIFIED:20250903T120822Z
UID:12069-1757116800-1757289599@ncmaritimemuseumbeaufort.com
SUMMARY:Introduction to Wooden Boat Building
DESCRIPTION:Explore the art of boatbuilding — beginning with lofting\, and moving on to the setup\, steam bending and different methods of creating the backbone of small boats — in this two-day\, hands-on course. You’ll also learn planking methods\, both carvel and lapstrake\, and use of appropriate fasteners. After two days\, you will have the knowledge\, skill\, and confidence to choose a design and style of boat to build on your own. \nClass runs from 9 a.m. to 4:30 p.m. each day. Class fee is $200 ($180 for Friends of the Museum). Minimum age is 16. Course size is limited\, and advance registration is required. Register below or by calling 252-504-7758.
URL:https://ncmaritimemuseumbeaufort.com/event/introduction-to-wooden-boat-building-2024-09-14-2025-09-20/
LOCATION:Harvey W. Smith Watercraft Center\, 322 Front Street\, Beaufort\, NC\, 28516\, United States
CATEGORIES:boat programs
ATTACH;FMTTYPE=image/jpeg:https://ncmaritimemuseumbeaufort.com/wp-content/uploads/2021/03/intro-to-boat-building-e1615227783341.jpg
END:VEVENT
BEGIN:VEVENT
DTSTART;TZID=America/New_York:20250910T090000
DTEND;TZID=America/New_York:20250910T110000
DTSTAMP:20260421T185641
CREATED:20220105T212657Z
LAST-MODIFIED:20250106T165928Z
UID:11488-1757494800-1757502000@ncmaritimemuseumbeaufort.com
SUMMARY:Kids' Cove: Sailor's Life
DESCRIPTION:Kids’ Cove is a free-play program designed for children ages 0-5 and their caregivers with a different maritime themed craft and wiggle activity each month. While the museum is temporarily closed the kids cove programs will be hosted at the Beaufort Train Depot\, 614 Broad St. in Beaufort. This is a screen-free program meant to help caregivers connect with their little ones\, each other\, and their local maritime heritage. The program is designed so that participants can stay for as short or as long as they want\, arriving and leaving at any time during the scheduled program. Programs do not build on each other\, so you can participate in one\, all\, or some without feeling left out. Programs are held on the second Wednesday of each month from 9 to 11 a.m. Pre-registration preferred. \nSign up below or by calling 252-504-7758.
URL:https://ncmaritimemuseumbeaufort.com/event/kidscove9/
LOCATION:Beaufort Train Depot\, 614 Broad St.\, Beaufort\, North Carolina\, 28516
CATEGORIES:children's program
ATTACH;FMTTYPE=image/jpeg:https://ncmaritimemuseumbeaufort.com/wp-content/uploads/2022/01/Kids-Cove-Play-Area-scaled.jpg
END:VEVENT
BEGIN:VEVENT
DTSTART;TZID=America/New_York:20250912T100000
DTEND;TZID=America/New_York:20250912T100000
DTSTAMP:20260421T185641
CREATED:20241216T192831Z
LAST-MODIFIED:20241219T143706Z
UID:11283-1757671200-1757671200@ncmaritimemuseumbeaufort.com
SUMMARY:Bonehenge Public Tours
DESCRIPTION:Join us for a 40 to 60-minute walking tour of Bonehenge Whale Center\, led by Natural Science Curator Keith Rittmaster and Associate Museum Curator Christine Brin. Keith has spent over 35 years studying marine mammals off the coast of North Carolina\, focusing on bottlenose dolphins. His work preparing marine mammal skeletons for educational display is as unique as the Whale Center itself.   \nBonehenge Whale Center operates as a partnership between the North Carolina Department of Natural and Cultural Resources and the Carolina Cay Maritime Foundation. \nLimited spaces are available. The program is not recommended for children under 12 due to the workshop environment. Those 17 and under must be accompanied by an adult. Pre-registration required by noon the day prior. Register below or by calling (252) 504-7758.
URL:https://ncmaritimemuseumbeaufort.com/event/bonehenge-public-tours-2025-09-12/
LOCATION:Bonehenge Whale Center\, 275 W Beaufort Rd Ext\, Beaufort\, 28516
CATEGORIES:bonehenge
ATTACH;FMTTYPE=image/jpeg:https://ncmaritimemuseumbeaufort.com/wp-content/uploads/2022/01/20200706_114947-scaled.jpg
ORGANIZER;CN="North Carolina Maritime Museum in Beaufort":MAILTO:cyndi.brown@dncr.nc.gov
END:VEVENT
BEGIN:VEVENT
DTSTART;TZID=America/New_York:20250917T090000
DTEND;TZID=America/New_York:20250917T120000
DTSTAMP:20260421T185641
CREATED:20220316T154057Z
LAST-MODIFIED:20241219T165322Z
UID:11351-1758099600-1758110400@ncmaritimemuseumbeaufort.com
SUMMARY:Hiking and History on Shackleford Banks
DESCRIPTION:Experience Outer Banks history and wildlife with a guided hike on Shackleford Banks\, part of the Cape Lookout National Seashore. Participants will take a ferry to an undeveloped barrier island. This field trip requires hiking through sandy terrain for about 1.5 miles. The program is recommended for ages 12 and up. All participants under 18 must be accompanied by an adult.   \nField programs are designed to give participants a hands-on experience with North Carolina’s environment\, history\, and culture. Please note that these programs take place primarily outside. Please review the age and experience requirements before registering. Pre-registration is required by noon the day prior to the program. Register below. For more information\, call 252-504-7758. 
URL:https://ncmaritimemuseumbeaufort.com/event/hiking-and-history-on-shackleford2024-2025-09-17/
LOCATION:NC
CATEGORIES:field programs
ATTACH;FMTTYPE=image/jpeg:https://ncmaritimemuseumbeaufort.com/wp-content/uploads/2022/03/7-9-10-horses-shackleford.jpg
END:VEVENT
BEGIN:VEVENT
DTSTART;TZID=America/New_York:20250918T110000
DTEND;TZID=America/New_York:20250918T120000
DTSTAMP:20260421T185641
CREATED:20220106T145205Z
LAST-MODIFIED:20250825T210052Z
UID:7888-1758193200-1758196800@ncmaritimemuseumbeaufort.com
SUMMARY:'Life Aboard Ship\, Means Going at Sea'
DESCRIPTION:When nature calls\, you must go! But where do you go while at sea? You may be surprised by the historical practices of something so basic as using the bathroom when it comes to being on board a ship many years ago. Join Associate Curator of Education Christine Brin for an informative look at the evolution of the ship’s head (bathroom). She will cover historic sailing vessels\, ironclad warships\, and submarines\, related to this interesting aspect of maritime life you may never have thought about. \nThis program is part of the museum’s Maritime Heritage Lecture Series\, informal lectures focused on North Carolina’s rich maritime history\, coastal environment\, and culture. The lectures are currently held in the Fort Macon Coastal Education Center and streamed via Zoom. is free\, and registration is not required for the in-person program. Visit ncmaritimemuseumbeaufort.com/virtual to sign up to receive the Zoom links. Programs are also posted to the museum’s YouTube channel. 
URL:https://ncmaritimemuseumbeaufort.com/event/goingatsea/
LOCATION:Fort Macon State Park\, 2303 E. Fort Macon Road\, Atlantic Beach\, 28512\, United States
CATEGORIES:maritime heritage series
ATTACH;FMTTYPE=image/jpeg:https://ncmaritimemuseumbeaufort.com/wp-content/uploads/2022/01/Sept-21-MHS.jpg
END:VEVENT
BEGIN:VEVENT
DTSTART;TZID=America/New_York:20250924T090000
DTEND;TZID=America/New_York:20250924T120000
DTSTAMP:20260421T185641
CREATED:20210512T195114Z
LAST-MODIFIED:20250405T195427Z
UID:11379-1758704400-1758715200@ncmaritimemuseumbeaufort.com
SUMMARY:Kayak the Salt Marsh
DESCRIPTION:Learn about salt marshes and wildlife while on the water. Basic kayak instruction and safety lessons on shore are followed by a 1.5-mile paddle through the salt marsh in our sit-in cockpit touring kayaks; or bring your own kayak and join us at a discount. The program is recommended for ages 12 and up. All participants under 18 must be accompanied by an adult. Participants must know how to swim; some kayak experience is recommended.   \nField programs are designed to give participants a hands-on experience with North Carolina’s environment\, history\, and culture. Please note that these programs take place primarily outside. Please review the age and experience requirements before registering. Pre-registration is required by noon the day prior to the program. For more information\, call 252-504-7758. 
URL:https://ncmaritimemuseumbeaufort.com/event/kayaking-2025-09-24/
LOCATION:Gallants Channel\, 293 West Beaufort Road\, Beaufort\, NC\, 28516\, United States
CATEGORIES:field programs
ATTACH;FMTTYPE=image/jpeg:https://ncmaritimemuseumbeaufort.com/wp-content/uploads/2021/05/kayaking-1-e1620848925108.jpg
ORGANIZER;CN="North Carolina Maritime Museum in Beaufort":MAILTO:cyndi.brown@dncr.nc.gov
END:VEVENT
BEGIN:VEVENT
DTSTART;TZID=America/New_York:20250925T110000
DTEND;TZID=America/New_York:20250925T110000
DTSTAMP:20260421T185641
CREATED:20240201T165632Z
LAST-MODIFIED:20250910T143057Z
UID:12569-1758798000-1758798000@ncmaritimemuseumbeaufort.com
SUMMARY:'The Rachel Carson Reserve'
DESCRIPTION:Ben Wunderly\, site manager of the Rachel Carson Reserve\, will give an overview of its history\, natural features\, and wildlife. The Rachel Carson Reserve\, located in Carteret County just inside Beaufort Inlet\, is comprised of a series of marshes\, tidal flats\, and upland islands. The 2\,315 acres of combined habitat are dedicated as a nature preserve under the state’s Natural Heritage Program. The Rachel Carson Reserve is home to a diverse number of animals: various mammals\, including its wild horses\, to more than 200 species of birds and even more types of marine life. Come learn about this coastal treasure and how important its protection is. \nThis program is part of the museum’s Maritime Heritage Lecture Series\, informal lectures focused on North Carolina’s rich maritime history\, coastal environment\, and culture. The lectures are currently held in the Fort Macon Coastal Education Center and streamed via Zoom. is free\, and registration is not required for the in-person program. Visit ncmaritimemuseumbeaufort.com/virtual to sign up to receive the Zoom links. Programs are also posted to the museum’s YouTube channel. 
URL:https://ncmaritimemuseumbeaufort.com/event/rachel-carson/
LOCATION:Fort Macon State Park\, 2303 E. Fort Macon Road\, Atlantic Beach\, 28512\, United States
CATEGORIES:maritime heritage series
ATTACH;FMTTYPE=image/jpeg:https://ncmaritimemuseumbeaufort.com/wp-content/uploads/2024/02/rachel-carson.jpg
ORGANIZER;CN="North Carolina Maritime Museum in Beaufort":MAILTO:cyndi.brown@dncr.nc.gov
END:VEVENT
END:VCALENDAR