BEGIN:VCALENDAR
VERSION:2.0
PRODID:-//NC Maritime Museum : BEAUFORT - ECPv6.8.3//NONSGML v1.0//EN
CALSCALE:GREGORIAN
METHOD:PUBLISH
X-WR-CALNAME:NC Maritime Museum : BEAUFORT
X-ORIGINAL-URL:https://ncmaritimemuseumbeaufort.com
X-WR-CALDESC:Events for NC Maritime Museum : BEAUFORT
REFRESH-INTERVAL;VALUE=DURATION:PT1H
X-Robots-Tag:noindex
X-PUBLISHED-TTL:PT1H
BEGIN:VTIMEZONE
TZID:America/New_York
BEGIN:DAYLIGHT
TZOFFSETFROM:-0500
TZOFFSETTO:-0400
TZNAME:EDT
DTSTART:20260308T070000
END:DAYLIGHT
BEGIN:STANDARD
TZOFFSETFROM:-0400
TZOFFSETTO:-0500
TZNAME:EST
DTSTART:20261101T060000
END:STANDARD
END:VTIMEZONE
BEGIN:VEVENT
DTSTART;VALUE=DATE:20260801
DTEND;VALUE=DATE:20260802
DTSTAMP:20260421T203423
CREATED:20210512T191733Z
LAST-MODIFIED:20251218T161610Z
UID:13136-1785542400-1785628799@ncmaritimemuseumbeaufort.com
SUMMARY:Build a Boat in a Day
DESCRIPTION:Participants in this introductory workshop use pre-cut kits to construct a small\, flat-bottomed plywood boat in a single session. The course focuses on teaching basic woodworking and assembly skills. The class is designed for beginners and is a collaborative effort for families or small teams. Each participating team assembles a small flat-bottomed plywood boat suitable for paddling. The boat is 12 feet long\, 32 inches wide\, and weighs about 40 pounds. Each boat will be completed to a watertight condition and ready to take home for paint or varnish. \nTeams are limited to a maximum of 4 people\, at least one of whom must be an adult. Minimum age is 8 years old. Register below or by calling 252-504-7758.
URL:https://ncmaritimemuseumbeaufort.com/event/boat-in-a-day-2026-08-01/
LOCATION:Harvey W. Smith Watercraft Center\, 322 Front Street\, Beaufort\, NC\, 28516\, United States
CATEGORIES:boat programs
ATTACH;FMTTYPE=image/jpeg:https://ncmaritimemuseumbeaufort.com/wp-content/uploads/2021/12/20211102_151522-e1640115220724.jpg
END:VEVENT
BEGIN:VEVENT
DTSTART;VALUE=DATE:20260810
DTEND;VALUE=DATE:20260815
DTSTAMP:20260421T203423
CREATED:20251218T171921Z
LAST-MODIFIED:20251219T133934Z
UID:13213-1786320000-1786751999@ncmaritimemuseumbeaufort.com
SUMMARY:Blue Compass II
DESCRIPTION:Blue Compass II is a new Summer Science School class that provides children entering grades 3 and 4 with fun and adventure in their coastal environment. The five-day camp highlights the maritime traditions\, natural resources\, and rich history of the North Carolina coast. Campers will build a stitch and glue model boat\, fish from local docks\, investigate underwater archaeology\, discover a pirate’s treasure\, and tour Bonehenge Whale Center. Each day features interactive projects\, outdoor exploration\, and fun discoveries about life along the coast. The program runs from 9 a.m.–noon each day. \nSummer Science School courses are designed to give children entering grades one to 10 hands-on experiences with North Carolina’s environment\, history\, and culture.  Some courses take place outside the main museum building and may involve travel. Advance registration is required. Register below. Limited scholarships that cover course fees are available; email Education Curator Courtney Felton for scholarship information. For more information\, call 252-504-7758.
URL:https://ncmaritimemuseumbeaufort.com/event/blue-compass-ii-2026-08-10/
LOCATION:North Carolina Maritime Museum in Beaufort\, 315 Front St.\, Beaufort\, NC\, 28516\, United States
CATEGORIES:children's program,summer science school
ATTACH;FMTTYPE=image/jpeg:https://ncmaritimemuseumbeaufort.com/wp-content/uploads/2025/12/20230707_093431-scaled.jpg
ORGANIZER;CN="North Carolina Maritime Museum in Beaufort":MAILTO:cyndi.brown@dncr.nc.gov
END:VEVENT
BEGIN:VEVENT
DTSTART;VALUE=DATE:20260815
DTEND;VALUE=DATE:20260817
DTSTAMP:20260421T203423
CREATED:20210609T155800Z
LAST-MODIFIED:20251212T165806Z
UID:12959-1786752000-1786924799@ncmaritimemuseumbeaufort.com
SUMMARY:Introduction to Wooden Boatbuilding
DESCRIPTION:The introductory wooden boatbuilding class provides hands-on experience with fundamental boatbuilding concepts. The course teaches students to select wood\, design a boat\, and use various techniques like steam bending\, planking (carvel or lapstrake)\, and fastening to construct a small boat. The curriculum covers basic design\, essential tools\, safe workshop practices\, and the properties of wood\, culminating in a small project that builds confidence for independent boatbuilding. \nClass runs from 9 a.m. to 5 p.m. each day. Class fee is $200 ($180 for Friends of the Museum). Minimum age is 16. Course size is limited\, and advance registration is required. Register below or by calling 252-504-7758.
URL:https://ncmaritimemuseumbeaufort.com/event/introduction-to-wooden-boat-building-2026-08-15/
LOCATION:Harvey W. Smith Watercraft Center\, 322 Front Street\, Beaufort\, NC\, 28516\, United States
CATEGORIES:boat programs
ATTACH;FMTTYPE=image/jpeg:https://ncmaritimemuseumbeaufort.com/wp-content/uploads/2021/03/intro-to-boat-building-e1615227783341.jpg
END:VEVENT
BEGIN:VEVENT
DTSTART;VALUE=DATE:20260822
DTEND;VALUE=DATE:20260823
DTSTAMP:20260421T203423
CREATED:20210512T191733Z
LAST-MODIFIED:20251218T162052Z
UID:13137-1787356800-1787443199@ncmaritimemuseumbeaufort.com
SUMMARY:Build a Boat in a Day
DESCRIPTION:Participants in this introductory workshop use pre-cut kits to construct a small\, flat-bottomed plywood boat in a single session. The course focuses on teaching basic woodworking and assembly skills. The class is designed for beginners and is a collaborative effort for families or small teams. Each participating team assembles a small flat-bottomed plywood boat suitable for paddling. The boat is 12 feet long\, 32 inches wide\, and weighs about 40 pounds. Each boat will be completed to a watertight condition and ready to take home for paint or varnish. \nTeams are limited to a maximum of 4 people\, at least one of whom must be an adult. Minimum age is 8 years old. Register below or by calling 252-504-7758.
URL:https://ncmaritimemuseumbeaufort.com/event/boat-in-a-day-2026-08-22/
LOCATION:Harvey W. Smith Watercraft Center\, 322 Front Street\, Beaufort\, NC\, 28516\, United States
CATEGORIES:boat programs
ATTACH;FMTTYPE=image/jpeg:https://ncmaritimemuseumbeaufort.com/wp-content/uploads/2021/12/20211102_151522-e1640115220724.jpg
END:VEVENT
BEGIN:VEVENT
DTSTART;VALUE=DATE:20260829
DTEND;VALUE=DATE:20260831
DTSTAMP:20260421T203423
CREATED:20210609T155800Z
LAST-MODIFIED:20251210T211112Z
UID:12761-1787961600-1788134399@ncmaritimemuseumbeaufort.com
SUMMARY:Lofting a Boat
DESCRIPTION:The boatbuilding class teaches how to create full-size\, scaled-up plans for a six-foot boat using a traditional process called lofting. Students will learn to transfer a boat’s design from a boat plan and draw it out in full scale\, the first critical steps for creating templates and building a boat. \nClass runs from 9 a.m. to 5 p.m. each day. Class fee is $110 ($99 for Friends of the Museum). Minimum age is 16. Course size is limited\, and advance registration is required. Register below or by calling 252-504-7758.
URL:https://ncmaritimemuseumbeaufort.com/event/lofting-2026-08-27/
LOCATION:Harvey W. Smith Watercraft Center\, 322 Front Street\, Beaufort\, NC\, 28516\, United States
CATEGORIES:boat programs
ATTACH;FMTTYPE=image/jpeg:https://ncmaritimemuseumbeaufort.com/wp-content/uploads/2017/06/2016-AiA-NCMM-BFT-54-Large.jpg
END:VEVENT
BEGIN:VEVENT
DTSTART;VALUE=DATE:20260905
DTEND;VALUE=DATE:20260906
DTSTAMP:20260421T203423
CREATED:20210512T191733Z
LAST-MODIFIED:20251218T162833Z
UID:13138-1788566400-1788652799@ncmaritimemuseumbeaufort.com
SUMMARY:Build a Boat in a Day
DESCRIPTION:Participants in this introductory workshop use pre-cut kits to construct a small\, flat-bottomed plywood boat in a single session. The course focuses on teaching basic woodworking and assembly skills. The class is designed for beginners and is a collaborative effort for families or small teams. Each participating team assembles a small flat-bottomed plywood boat suitable for paddling. The boat is 12 feet long\, 32 inches wide\, and weighs about 40 pounds. Each boat will be completed to a watertight condition and ready to take home for paint or varnish. \nTeams are limited to a maximum of 4 people\, at least one of whom must be an adult. Minimum age is 8 years old. Register below or by calling 252-504-7758.
URL:https://ncmaritimemuseumbeaufort.com/event/boat-in-a-day-2026-09-05/
LOCATION:Harvey W. Smith Watercraft Center\, 322 Front Street\, Beaufort\, NC\, 28516\, United States
CATEGORIES:boat programs
ATTACH;FMTTYPE=image/jpeg:https://ncmaritimemuseumbeaufort.com/wp-content/uploads/2021/12/20211102_151522-e1640115220724.jpg
END:VEVENT
BEGIN:VEVENT
DTSTART;VALUE=DATE:20260912
DTEND;VALUE=DATE:20260914
DTSTAMP:20260421T203423
CREATED:20210609T155800Z
LAST-MODIFIED:20251212T164214Z
UID:12960-1789171200-1789343999@ncmaritimemuseumbeaufort.com
SUMMARY:Introduction to Wooden Boatbuilding
DESCRIPTION:The introductory wooden boatbuilding class provides hands-on experience with fundamental boatbuilding concepts. The course teaches students to select wood\, design a boat\, and use various techniques like steam bending\, planking (carvel or lapstrake)\, and fastening to construct a small boat. The curriculum covers basic design\, essential tools\, safe workshop practices\, and the properties of wood\, culminating in a small project that builds confidence for independent boatbuilding. \nClass runs from 9 a.m. to 5 p.m. each day. Class fee is $200 ($180 for Friends of the Museum). Minimum age is 16. Course size is limited\, and advance registration is required. Register below or by calling 252-504-7758.
URL:https://ncmaritimemuseumbeaufort.com/event/introduction-to-wooden-boat-building-2026-09-12/
LOCATION:Harvey W. Smith Watercraft Center\, 322 Front Street\, Beaufort\, NC\, 28516\, United States
CATEGORIES:boat programs
ATTACH;FMTTYPE=image/jpeg:https://ncmaritimemuseumbeaufort.com/wp-content/uploads/2021/03/intro-to-boat-building-e1615227783341.jpg
END:VEVENT
BEGIN:VEVENT
DTSTART;VALUE=DATE:20261010
DTEND;VALUE=DATE:20261012
DTSTAMP:20260421T203423
CREATED:20210609T155800Z
LAST-MODIFIED:20251212T164046Z
UID:12961-1791590400-1791763199@ncmaritimemuseumbeaufort.com
SUMMARY:Introduction to Wooden Boatbuilding
DESCRIPTION:The introductory wooden boatbuilding class provides hands-on experience with fundamental boatbuilding concepts. The course teaches students to select wood\, design a boat\, and use various techniques like steam bending\, planking (carvel or lapstrake)\, and fastening to construct a small boat. The curriculum covers basic design\, essential tools\, safe workshop practices\, and the properties of wood\, culminating in a small project that builds confidence for independent boatbuilding. \nClass runs from 9 a.m. to 5 p.m. each day. Class fee is $200 ($180 for Friends of the Museum). Minimum age is 16. Course size is limited\, and advance registration is required. Register below or by calling 252-504-7758.
URL:https://ncmaritimemuseumbeaufort.com/event/introduction-to-wooden-boat-building-2026-10-10/
LOCATION:Harvey W. Smith Watercraft Center\, 322 Front Street\, Beaufort\, NC\, 28516\, United States
CATEGORIES:boat programs
ATTACH;FMTTYPE=image/jpeg:https://ncmaritimemuseumbeaufort.com/wp-content/uploads/2021/03/intro-to-boat-building-e1615227783341.jpg
END:VEVENT
BEGIN:VEVENT
DTSTART;VALUE=DATE:20261107
DTEND;VALUE=DATE:20261108
DTSTAMP:20260421T203423
CREATED:20210512T191733Z
LAST-MODIFIED:20251218T162927Z
UID:13139-1794009600-1794095999@ncmaritimemuseumbeaufort.com
SUMMARY:Build a Boat in a Day
DESCRIPTION:Participants in this introductory workshop use pre-cut kits to construct a small\, flat-bottomed plywood boat in a single session. The course focuses on teaching basic woodworking and assembly skills. The class is designed for beginners and is a collaborative effort for families or small teams. Each participating team assembles a small flat-bottomed plywood boat suitable for paddling. The boat is 12 feet long\, 32 inches wide\, and weighs about 40 pounds. Each boat will be completed to a watertight condition and ready to take home for paint or varnish. \nTeams are limited to a maximum of 4 people\, at least one of whom must be an adult. Minimum age is 8 years old. Register below or by calling 252-504-7758.
URL:https://ncmaritimemuseumbeaufort.com/event/boat-in-a-day-2026-11-07/
LOCATION:Harvey W. Smith Watercraft Center\, 322 Front Street\, Beaufort\, NC\, 28516\, United States
CATEGORIES:boat programs
ATTACH;FMTTYPE=image/jpeg:https://ncmaritimemuseumbeaufort.com/wp-content/uploads/2021/12/20211102_151522-e1640115220724.jpg
END:VEVENT
BEGIN:VEVENT
DTSTART;VALUE=DATE:20261121
DTEND;VALUE=DATE:20261123
DTSTAMP:20260421T203423
CREATED:20210609T155800Z
LAST-MODIFIED:20251219T140728Z
UID:12962-1795219200-1795391999@ncmaritimemuseumbeaufort.com
SUMMARY:Introduction to Wooden Boatbuilding
DESCRIPTION:The introductory wooden boatbuilding class provides hands-on experience with fundamental boatbuilding concepts. The course teaches students to select wood\, design a boat\, and use various techniques like steam bending\, planking (carvel or lapstrake)\, and fastening to construct a small boat. The curriculum covers basic design\, essential tools\, safe workshop practices\, and the properties of wood\, culminating in a small project that builds confidence for independent boatbuilding. \nClass runs from 9 a.m. to 5 p.m. each day. Class fee is $200 ($180 for Friends of the Museum). Minimum age is 16. Course size is limited\, and advance registration is required. Register below or by calling 252-504-7758.
URL:https://ncmaritimemuseumbeaufort.com/event/introduction-to-wooden-boat-building-2026-11-21/
LOCATION:Harvey W. Smith Watercraft Center\, 322 Front Street\, Beaufort\, NC\, 28516\, United States
CATEGORIES:boat programs
ATTACH;FMTTYPE=image/jpeg:https://ncmaritimemuseumbeaufort.com/wp-content/uploads/2021/03/intro-to-boat-building-e1615227783341.jpg
END:VEVENT
BEGIN:VEVENT
DTSTART;VALUE=DATE:20261212
DTEND;VALUE=DATE:20261214
DTSTAMP:20260421T203423
CREATED:20210609T155800Z
LAST-MODIFIED:20251212T163654Z
UID:12963-1797033600-1797206399@ncmaritimemuseumbeaufort.com
SUMMARY:Introduction to Wooden Boatbuilding
DESCRIPTION:The introductory wooden boatbuilding class provides hands-on experience with fundamental boatbuilding concepts. The course teaches students to select wood\, design a boat\, and use various techniques like steam bending\, planking (carvel or lapstrake)\, and fastening to construct a small boat. The curriculum covers basic design\, essential tools\, safe workshop practices\, and the properties of wood\, culminating in a small project that builds confidence for independent boatbuilding. \nClass runs from 9 a.m. to 5 p.m. each day. Class fee is $200 ($180 for Friends of the Museum). Minimum age is 16. Course size is limited\, and advance registration is required. Register below or by calling 252-504-7758.
URL:https://ncmaritimemuseumbeaufort.com/event/introduction-to-wooden-boat-building-2026-12-12/
LOCATION:Harvey W. Smith Watercraft Center\, 322 Front Street\, Beaufort\, NC\, 28516\, United States
CATEGORIES:boat programs
ATTACH;FMTTYPE=image/jpeg:https://ncmaritimemuseumbeaufort.com/wp-content/uploads/2021/03/intro-to-boat-building-e1615227783341.jpg
END:VEVENT
END:VCALENDAR