BEGIN:VCALENDAR
VERSION:2.0
PRODID:-//NC Maritime Museum : BEAUFORT - ECPv6.8.3//NONSGML v1.0//EN
CALSCALE:GREGORIAN
METHOD:PUBLISH
X-ORIGINAL-URL:https://ncmaritimemuseumbeaufort.com
X-WR-CALDESC:Events for NC Maritime Museum : BEAUFORT
REFRESH-INTERVAL;VALUE=DURATION:PT1H
X-Robots-Tag:noindex
X-PUBLISHED-TTL:PT1H
BEGIN:VTIMEZONE
TZID:America/New_York
BEGIN:DAYLIGHT
TZOFFSETFROM:-0500
TZOFFSETTO:-0400
TZNAME:EDT
DTSTART:20260308T070000
END:DAYLIGHT
BEGIN:STANDARD
TZOFFSETFROM:-0400
TZOFFSETTO:-0500
TZNAME:EST
DTSTART:20261101T060000
END:STANDARD
END:VTIMEZONE
BEGIN:VEVENT
DTSTART;TZID=America/New_York:20261014T090000
DTEND;TZID=America/New_York:20261014T110000
DTSTAMP:20260420T095046
CREATED:20220105T212657Z
LAST-MODIFIED:20251210T212228Z
UID:12775-1791968400-1791975600@ncmaritimemuseumbeaufort.com
SUMMARY:Kids' Cove: Maritime Masks
DESCRIPTION:Kids’ Cove is a free-play program designed for children ages 0-5 and their caregivers with a different maritime themed craft and wiggle activity each month. While the museum’s gallery remains temporarily closed\, the Kids’ Cove programs will return to the museum auditorium. This is a screen-free program meant to help caregivers connect with their little ones\, each other\, and their local maritime heritage. The program is designed so that participants can stay for as short or as long as they want\, arriving and leaving at any time during the scheduled program. Programs do not build on each other\, so you can participate in one\, all\, or some without feeling left out. Programs are held on the second Wednesday of each month from 9 to 11 a.m. Pre-registration preferred. \nSign up below or by calling 252-504-7758.
URL:https://ncmaritimemuseumbeaufort.com/event/kidscove-2026-10-14/
LOCATION:North Carolina Maritime Museum in Beaufort\, 315 Front St.\, Beaufort\, NC\, 28516\, United States
CATEGORIES:children's program
ATTACH;FMTTYPE=image/jpeg:https://ncmaritimemuseumbeaufort.com/wp-content/uploads/2022/01/Kids-Cove-Play-Area-scaled.jpg
END:VEVENT
BEGIN:VEVENT
DTSTART;TZID=America/New_York:20261110T140000
DTEND;TZID=America/New_York:20261110T143000
DTSTAMP:20260420T095046
CREATED:20251206T210436Z
LAST-MODIFIED:20251216T162455Z
UID:12716-1794319200-1794321000@ncmaritimemuseumbeaufort.com
SUMMARY:Bonehenge Family Friendly Tour
DESCRIPTION:Children ages 7 to 14 and their companion adults are invited to participate in a new 20 to 30-minute tour of the Bonehenge Whale Center. The free tour is a shortened version of the regular public tour with softer imagery and vocabulary for a younger audience. Along with the opportunity to touch and hold multiple bones\, whale oil\, and a real whale’s tooth\, the tour will include discussions on what whales eat\, how they are adapted to deep ocean living\, conservation issues regarding whales\, and how the public can help.   \nThis tour takes place in an active workshop; therefore\, it is not recommended for children under the age of 7. Pre-registration is required by noon the day prior to the program. Register below. For more information\, call 252-504-7758. 
URL:https://ncmaritimemuseumbeaufort.com/event/bonehenge-family-friendly-tour-2026-11-10/
LOCATION:North Carolina Maritime Museum in Beaufort\, 315 Front St.\, Beaufort\, NC\, 28516\, United States
CATEGORIES:bonehenge,children's program
ATTACH;FMTTYPE=image/jpeg:https://ncmaritimemuseumbeaufort.com/wp-content/uploads/2025/01/NC-Maritime.jpeg
ORGANIZER;CN="North Carolina Maritime Museum in Beaufort":MAILTO:cyndi.brown@dncr.nc.gov
END:VEVENT
BEGIN:VEVENT
DTSTART;TZID=America/New_York:20261111T090000
DTEND;TZID=America/New_York:20261111T110000
DTSTAMP:20260420T095046
CREATED:20220105T212657Z
LAST-MODIFIED:20251210T211943Z
UID:12776-1794387600-1794394800@ncmaritimemuseumbeaufort.com
SUMMARY:Kids' Cove: Turkey
DESCRIPTION:Kids’ Cove is a free-play program designed for children ages 0-5 and their caregivers with a different maritime themed craft and wiggle activity each month. While the museum’s gallery remains temporarily closed\, the Kids’ Cove programs will return to the museum auditorium. This is a screen-free program meant to help caregivers connect with their little ones\, each other\, and their local maritime heritage. The program is designed so that participants can stay for as short or as long as they want\, arriving and leaving at any time during the scheduled program. Programs do not build on each other\, so you can participate in one\, all\, or some without feeling left out. Programs are held on the second Wednesday of each month from 9 to 11 a.m. Pre-registration preferred. \nSign up below or by calling 252-504-7758.
URL:https://ncmaritimemuseumbeaufort.com/event/kidscove-2026-11-11/
LOCATION:North Carolina Maritime Museum in Beaufort\, 315 Front St.\, Beaufort\, NC\, 28516\, United States
CATEGORIES:children's program
ATTACH;FMTTYPE=image/jpeg:https://ncmaritimemuseumbeaufort.com/wp-content/uploads/2022/01/Kids-Cove-Play-Area-scaled.jpg
END:VEVENT
BEGIN:VEVENT
DTSTART;TZID=America/New_York:20261209T090000
DTEND;TZID=America/New_York:20261209T110000
DTSTAMP:20260420T095046
CREATED:20220105T212657Z
LAST-MODIFIED:20251210T212109Z
UID:12777-1796806800-1796814000@ncmaritimemuseumbeaufort.com
SUMMARY:Kids' Cove: Trains
DESCRIPTION:Kids’ Cove is a free-play program designed for children ages 0-5 and their caregivers with a different maritime themed craft and wiggle activity each month. While the museum’s gallery remains temporarily closed\, the Kids’ Cove programs will return to the museum auditorium. This is a screen-free program meant to help caregivers connect with their little ones\, each other\, and their local maritime heritage. The program is designed so that participants can stay for as short or as long as they want\, arriving and leaving at any time during the scheduled program. Programs do not build on each other\, so you can participate in one\, all\, or some without feeling left out. Programs are held on the second Wednesday of each month from 9 to 11 a.m. Pre-registration preferred. \nSign up below or by calling 252-504-7758.
URL:https://ncmaritimemuseumbeaufort.com/event/kidscove-2026-12-09/
LOCATION:North Carolina Maritime Museum in Beaufort\, 315 Front St.\, Beaufort\, NC\, 28516\, United States
CATEGORIES:children's program
ATTACH;FMTTYPE=image/jpeg:https://ncmaritimemuseumbeaufort.com/wp-content/uploads/2022/01/Kids-Cove-Play-Area-scaled.jpg
END:VEVENT
END:VCALENDAR