BEGIN:VCALENDAR
VERSION:2.0
PRODID:-//NC Maritime Museum : BEAUFORT - ECPv6.8.3//NONSGML v1.0//EN
CALSCALE:GREGORIAN
METHOD:PUBLISH
X-WR-CALNAME:NC Maritime Museum : BEAUFORT
X-ORIGINAL-URL:https://ncmaritimemuseumbeaufort.com
X-WR-CALDESC:Events for NC Maritime Museum : BEAUFORT
REFRESH-INTERVAL;VALUE=DURATION:PT1H
X-Robots-Tag:noindex
X-PUBLISHED-TTL:PT1H
BEGIN:VTIMEZONE
TZID:America/New_York
BEGIN:DAYLIGHT
TZOFFSETFROM:-0500
TZOFFSETTO:-0400
TZNAME:EDT
DTSTART:20250309T070000
END:DAYLIGHT
BEGIN:STANDARD
TZOFFSETFROM:-0400
TZOFFSETTO:-0500
TZNAME:EST
DTSTART:20251102T060000
END:STANDARD
END:VTIMEZONE
BEGIN:VEVENT
DTSTART;TZID=America/New_York:20250619T110000
DTEND;TZID=America/New_York:20250619T110000
DTSTAMP:20260422T014505
CREATED:20241216T172205Z
LAST-MODIFIED:20241219T175614Z
UID:11429-1750330800-1750330800@ncmaritimemuseumbeaufort.com
SUMMARY:Trying Women: A History of Women in the Whaling Industry
DESCRIPTION:Using information gathered from whaling communities around the North Atlantic\, Associate Curator of Education Christine Brin will discuss the history of women in the whaling industry. Their roles range from net mending to running stores to processing whale meat and occasionally even joining their husbands at sea. Join us for an interesting insight into the world of women in the early 17th-century North Atlantic maritime community.  \nThis program is part of the museum’s Maritime Heritage Lecture Series\, informal lectures focused on North Carolina’s rich maritime history\, coastal environment\, and culture. The lectures are currently held in the Fort Macon Coastal Education Center and streamed via Zoom. is free\, and registration is not required for the in-person program. Visit ncmaritimemuseumbeaufort.com/virtual to sign up to receive the Zoom links. Programs are also posted to the museum’s YouTube channel. 
URL:https://ncmaritimemuseumbeaufort.com/event/mhs-2-2025-06-19/
LOCATION:Fort Macon State Park\, 2303 E. Fort Macon Road\, Atlantic Beach\, 28512\, United States
CATEGORIES:maritime heritage series
ORGANIZER;CN="North Carolina Maritime Museum in Beaufort":MAILTO:cyndi.brown@dncr.nc.gov
END:VEVENT
END:VCALENDAR