BEGIN:VCALENDAR
VERSION:2.0
PRODID:-//NC Maritime Museum : BEAUFORT - ECPv6.8.3//NONSGML v1.0//EN
CALSCALE:GREGORIAN
METHOD:PUBLISH
X-WR-CALNAME:NC Maritime Museum : BEAUFORT
X-ORIGINAL-URL:https://ncmaritimemuseumbeaufort.com
X-WR-CALDESC:Events for NC Maritime Museum : BEAUFORT
REFRESH-INTERVAL;VALUE=DURATION:PT1H
X-Robots-Tag:noindex
X-PUBLISHED-TTL:PT1H
BEGIN:VTIMEZONE
TZID:America/New_York
BEGIN:DAYLIGHT
TZOFFSETFROM:-0500
TZOFFSETTO:-0400
TZNAME:EDT
DTSTART:20250309T070000
END:DAYLIGHT
BEGIN:STANDARD
TZOFFSETFROM:-0400
TZOFFSETTO:-0500
TZNAME:EST
DTSTART:20251102T060000
END:STANDARD
END:VTIMEZONE
BEGIN:VEVENT
DTSTART;TZID=America/New_York:20250529T110000
DTEND;TZID=America/New_York:20250529T110000
DTSTAMP:20260422T014510
CREATED:20241216T172205Z
LAST-MODIFIED:20241219T175146Z
UID:11428-1748516400-1748516400@ncmaritimemuseumbeaufort.com
SUMMARY:A Curiosity Grows in Carolina
DESCRIPTION:On April 2\, 1759\, a letter was penned that would rock the botanical world: the first documented description of the Venus flytrap. Tales of this tiny green predator from the pine savannahs of Southeastern North Carolina would sweep throughout Europe. Join North Carolina Maritime Museum in Southport Programming and Education Curator Shannon Walker to learn about the little plant sparked a craze that would involve a royal governor\, the who’s who of 18th century scientists\, and a high seas adventure.  \nThis program is part of the museum’s Maritime Heritage Lecture Series\, informal lectures focused on North Carolina’s rich maritime history\, coastal environment\, and culture. The lectures are currently held in the Fort Macon Coastal Education Center and streamed via Zoom. is free\, and registration is not required for the in-person program. Visit ncmaritimemuseumbeaufort.com/virtual to sign up to receive the Zoom links. Programs are also posted to the museum’s YouTube channel. 
URL:https://ncmaritimemuseumbeaufort.com/event/mhs-2-2025-05-29/
LOCATION:Fort Macon State Park\, 2303 E. Fort Macon Road\, Atlantic Beach\, 28512\, United States
CATEGORIES:maritime heritage series
ATTACH;FMTTYPE=image/jpeg:https://ncmaritimemuseumbeaufort.com/wp-content/uploads/2024/12/thumbnail_Venus-flytrap-SW-e1734630569685.jpg
ORGANIZER;CN="North Carolina Maritime Museum in Beaufort":MAILTO:cyndi.brown@dncr.nc.gov
END:VEVENT
END:VCALENDAR