BEGIN:VCALENDAR
VERSION:2.0
PRODID:-//NC Maritime Museum : BEAUFORT - ECPv6.8.3//NONSGML v1.0//EN
CALSCALE:GREGORIAN
METHOD:PUBLISH
X-WR-CALNAME:NC Maritime Museum : BEAUFORT
X-ORIGINAL-URL:https://ncmaritimemuseumbeaufort.com
X-WR-CALDESC:Events for NC Maritime Museum : BEAUFORT
REFRESH-INTERVAL;VALUE=DURATION:PT1H
X-Robots-Tag:noindex
X-PUBLISHED-TTL:PT1H
BEGIN:VTIMEZONE
TZID:America/New_York
BEGIN:DAYLIGHT
TZOFFSETFROM:-0500
TZOFFSETTO:-0400
TZNAME:EDT
DTSTART:20250309T070000
END:DAYLIGHT
BEGIN:STANDARD
TZOFFSETFROM:-0400
TZOFFSETTO:-0500
TZNAME:EST
DTSTART:20251102T060000
END:STANDARD
END:VTIMEZONE
BEGIN:VEVENT
DTSTART;TZID=America/New_York:20250321T100000
DTEND;TZID=America/New_York:20250321T180000
DTSTAMP:20260422T071755
CREATED:20231220T171822Z
LAST-MODIFIED:20251216T201518Z
UID:11700-1742551200-1742580000@ncmaritimemuseumbeaufort.com
SUMMARY:Annual Whales and Whaling Symposium
DESCRIPTION:The history\, biology\, conservation\, and pedagogy of whales and whaling specific to North Carolina will be covered during the North Carolina Maritime Museum’s annual Whales and Whaling Symposium. The program is free. However\, pre-registration preferred due to limited seating. Register below or by calling 252-504-7758. \n 
URL:https://ncmaritimemuseumbeaufort.com/event/north-carolina-whales-and-whaling-symposium-2025-03-21/2025-03-21/
LOCATION:North Carolina Maritime Museum in Beaufort\, 315 Front St.\, Beaufort\, NC\, 28516\, United States
CATEGORIES:marine science
ATTACH;FMTTYPE=image/jpeg:https://ncmaritimemuseumbeaufort.com/wp-content/uploads/2023/02/right-whale.jpg
ORGANIZER;CN="North Carolina Maritime Museum in Beaufort":MAILTO:cyndi.brown@dncr.nc.gov
END:VEVENT
END:VCALENDAR