BEGIN:VCALENDAR
VERSION:2.0
PRODID:-//NC Maritime Museum : BEAUFORT - ECPv6.8.3//NONSGML v1.0//EN
CALSCALE:GREGORIAN
METHOD:PUBLISH
X-WR-CALNAME:NC Maritime Museum : BEAUFORT
X-ORIGINAL-URL:https://ncmaritimemuseumbeaufort.com
X-WR-CALDESC:Events for NC Maritime Museum : BEAUFORT
REFRESH-INTERVAL;VALUE=DURATION:PT1H
X-Robots-Tag:noindex
X-PUBLISHED-TTL:PT1H
BEGIN:VTIMEZONE
TZID:America/New_York
BEGIN:DAYLIGHT
TZOFFSETFROM:-0500
TZOFFSETTO:-0400
TZNAME:EDT
DTSTART:20250309T070000
END:DAYLIGHT
BEGIN:STANDARD
TZOFFSETFROM:-0400
TZOFFSETTO:-0500
TZNAME:EST
DTSTART:20251102T060000
END:STANDARD
END:VTIMEZONE
BEGIN:VEVENT
DTSTART;TZID=America/New_York:20250227T110000
DTEND;TZID=America/New_York:20250227T110000
DTSTAMP:20260422T071755
CREATED:20241216T202623Z
LAST-MODIFIED:20241219T172554Z
UID:11297-1740654000-1740654000@ncmaritimemuseumbeaufort.com
SUMMARY:The Maritime Dimensions of Coastal Plantations
DESCRIPTION:Join David Bennett\, curator of maritime history\, to learn about the maritime activities of coastal plantations in antebellum North Carolina\, including shipping\, shipbuilding\, ferries\, landings\, commercial fishing\, and more. He will also discuss the lives of free and enslaved watermen associated with coastal plantations.  \nThis program is part of the museum’s Maritime Heritage Lecture Series\, informal lectures focused on North Carolina’s rich maritime history\, coastal environment\, and culture. The lectures are currently held in the Fort Macon Coastal Education Center and streamed via Zoom. is free\, and registration is not required for the in-person program. Visit ncmaritimemuseumbeaufort.com/virtual to sign up to receive the Zoom links. Programs are also posted to the museum’s YouTube channel.  \n 
URL:https://ncmaritimemuseumbeaufort.com/event/the-maritime-dimensions-of-coastal-plantations/
LOCATION:Fort Macon State Park\, 2303 E. Fort Macon Road\, Atlantic Beach\, 28512\, United States
CATEGORIES:maritime heritage series
ATTACH;FMTTYPE=image/png:https://ncmaritimemuseumbeaufort.com/wp-content/uploads/2024/12/The-Maritime-Dimensions-of-Coastal-Plantations.png
ORGANIZER;CN="North Carolina Maritime Museum in Beaufort":MAILTO:cyndi.brown@dncr.nc.gov
END:VEVENT
END:VCALENDAR