BEGIN:VCALENDAR
VERSION:2.0
PRODID:-//NC Maritime Museum : BEAUFORT - ECPv6.8.3//NONSGML v1.0//EN
CALSCALE:GREGORIAN
METHOD:PUBLISH
X-ORIGINAL-URL:https://ncmaritimemuseumbeaufort.com
X-WR-CALDESC:Events for NC Maritime Museum : BEAUFORT
REFRESH-INTERVAL;VALUE=DURATION:PT1H
X-Robots-Tag:noindex
X-PUBLISHED-TTL:PT1H
BEGIN:VTIMEZONE
TZID:America/New_York
BEGIN:DAYLIGHT
TZOFFSETFROM:-0500
TZOFFSETTO:-0400
TZNAME:EDT
DTSTART:20250309T070000
END:DAYLIGHT
BEGIN:STANDARD
TZOFFSETFROM:-0400
TZOFFSETTO:-0500
TZNAME:EST
DTSTART:20251102T060000
END:STANDARD
END:VTIMEZONE
BEGIN:VEVENT
DTSTART;VALUE=DATE:20250116
DTEND;VALUE=DATE:20250117
DTSTAMP:20260422T105030
CREATED:20241220T162912Z
LAST-MODIFIED:20250106T170257Z
UID:11462-1736985600-1737071999@ncmaritimemuseumbeaufort.com
SUMMARY:Coastal Culture and Waterfowl Watching Excursion
DESCRIPTION:Observe wintering waterfowl at Pungo Lake and Lake Mattamuskeet during this one-day\, guided tour. Not recommended for children under 12; under 18 must be accompanied by an adult.
URL:https://ncmaritimemuseumbeaufort.com/event/one-day-waterfowl/
LOCATION:North Carolina Maritime Museum in Beaufort\, 315 Front St.\, Beaufort\, NC\, 28516\, United States
CATEGORIES:field programs
ATTACH;FMTTYPE=image/jpeg:https://ncmaritimemuseumbeaufort.com/wp-content/uploads/2024/11/tundra-swan-on-water.jpg
ORGANIZER;CN="North Carolina Maritime Museum in Beaufort":MAILTO:cyndi.brown@dncr.nc.gov
END:VEVENT
END:VCALENDAR